Workbook

Sheet ☆試算シート
A1: ='資料(非表示)'!A3&'資料(非表示)'!B3&'資料(非表示)'!C3 -> 令和8年度分
A2: 国民健康保険料試算シート
A4: 【注意事項】
B5: 本試算シートは、山陽小野田市の保険料計算方法に基づいて、世帯の国民健康保険料を試算するものです。
B6: 試算結果は、実際の保険料と異なる場合がありますので、あらかじめご了承ください。
B8: また、以下の内容に該当する場合は、本試算シートでの計算はできません。
B9: ・年度の途中で世帯主や世帯構成が変わったり、加入や脱退をした方がいる
B10: ・年度の途中に加入者が40歳または65歳に到達し、介護保険第2号被保険者の該当または非該当となる
B11: ・年度の途中に非自発失業制度による軽減を適用する方がいる
B12: ・世帯内に産前産後期間の保険料減額を受ける方がいる
B13: ・世帯内に加入者が後期高齢者医療制度に加入し、残った国民健康保険の加入者が1人いる
B14: ・世帯内に後期高齢者医療制度加入により被扶養者ではなくなった加入者がいる
B15: ・所得の未申告者がいる
B16: ・年金収入があり、1月2日以降に65歳の誕生日を迎えた場合
B17: ・専従者給与がある、または専従者控除を必要経費に算入している
... B20: ・合計所得が2,400万円を超える場合
A23: 入力箇所
A24: 国民健康保険料の試算をしたい世帯の方について、１．２．の項目について、選択および入力してください。
B26: １．世帯主を含む加入者人数を入力してください。(世帯主が国保に加入しない場合でも、１．の人数には含めて、２．で「加入しない」を選択の上、収入金額等を入力してください。)
D29: 名 | E29: =IF('計算用(非表示)'!$B$17="OK","",'計算用(非表示)'!$B$17)
B32: ２．年齢区分や収入状況などについて入力してください。
I33: ※所得計算結果がマイナスになるときは、所得金額を0円とします。
C34: ▼世帯主の年齢区分は、「加入しない」、「小・中・高校生」、「18歳～39歳」、「40歳～64歳」、「65歳～74歳」のいずれかを選択してください。 | J34: 入力：円
C35: 年齢区分 | D35: 給与収入 | E35: 給与所得 | F35: 年金収入 | G35: 年金所得 | H35: その他収入 | I35: その他所得 | J35: 所得合計
B36: 世帯主 | D36: 0 | E36: 0 | F36: 0 | G36: 0 | H36: 0 | I36: 0 | J36: ='計算用(非表示)'!M7 -> 0
B37: ▲世帯主の年齢区分のところにある"加入しない"は、「75歳以上の方」または「国保以外の健康保険に加入している方」を表します。 ▲▼給与所得と年金所得の両方がある場合には、給与所得から100,000円引いた金額を入力してください。
A38: 世帯主以外の加入者について 入力してください。 | B38: 加入者① | J38: ='計算用(非表示)'!M8 -> 0
B39: 加入者② | J39: ='計算用(非表示)'!M9 -> 0
B40: 加入者③ | J40: ='計算用(非表示)'!M10 -> 0
B41: 加入者④ | J41: ='計算用(非表示)'!M11 -> 0
B42: 加入者⑤ | J42: ='計算用(非表示)'!M12 -> 0
B43: 加入者⑥ | J43: ='計算用(非表示)'!M13 -> 0
E44: ▲給与所得と年金所得の両方がある場合には、給与所得から100,000円引いた金額を入力してください。
C45: ▲加入者の年齢区分は、「未就学児」、「小・中・高校生」、「18歳～39歳」、「40歳～64歳」、「65歳～74歳」のいずれかを選択してください。
A50: 試算結果
B53: あなたの世帯の国民健康保険料は 年間約 | G53: ひと月あたり 約
B54: ='計算用(非表示)'!B24 | G54: =IF(B54="","",B54/12)
E55: 円 です。 | I55: 円 です。
B58: 結果は、あくまでも試算です。
B59: 実際の保険料と異なる場合がありますので、あらかじめご了承ください。
...

Sheet 計算方法について
A1: 国民健康保険料の計算方法
C3: 所得割の計算 | N3: 【基準総所得金額（課税標準額または所得割対象額）の求め方】
D4: （１）所得割を求める。 | T4: すべて | U4: その他収入 | V4: 給与収入 | W4: 年金収入
E5: ①収入金額を所得額に換算して、基準総所得金額（課税標準額）を出す。 | N5: ●給与収入 | W5: 65歳未満 | X5: 65歳以上
E6: ②基準総所得金額（課税標準額）に対して各料率をかける。 | N6: 換算表の収入金額に応じた所得金額のところを見る。 | S6: STEP1 | T6: 収入金額を所得金額に 換算する | U6: 収入－必要経費 | V6: 国税庁の換算表などを用いる
N7: 所得金額から43万円引く。
C8: 均等割の計算 | S8: STEP2 | V8: 給与所得＋年金所得両方ある場合は、さらに10万円を引く。
D9: （２）均等割を求める。 | N9: ●年金収入
E10: ①収入金額を所得額に換算して、軽減基準所得金額を出す。 | N10: ○65歳未満の場合 | S10: STEP3 | X10: 15万円を引く
E11: ②７・５・２軽減に該当する場合、軽減料率をかける。 | N11: 換算表を用いて換算して所得金額を出す。
E12: ③軽減制度に該当となる場合、さらに軽減する。 | N12: 所得金額から43万円引く。 | S12: STEP4 | T12: 基礎控除43万円を引く | U12: 基礎控除43万円を引く（所得金額2,400万円以内を想定） | X12: 28万円を引く
C14: 平等割の計算 | N14: ○65歳以上の場合
D15: （３）平等割を求める。 | N15: 換算表を用いて換算して所得金額を出す（年金収入330万円未満のときは110万円引く）。
E16: ①1世帯あたりに一定額かかる。軽減に該当する場合、さらに軽減料率をかける。 | N16: 所得金額から15万円引く。
N17: 給与所得＋年金所得両方ある場合は、その金額から10万円引く。
C18: 合計 | N18: その金額から28万円引く。
D19: （４）年間合計額を求める。
E20: ①すべてを足して、年間合計額を求める。 | N20: ●その他収入
N21: 所得金額を出す（収入－必要経費）。
N22: 所得金額から43万円引く。
N26: 【軽減基準所得金額（軽減判定所得）の求め方】
T27: すべて | U27: その他収入 | V27: 給与収入 | W27: 年金収入
N28: ●給与収入 | W28: 65歳未満 | X28: 65歳以上
N29: 換算表の収入金額に応じた所得金額のところを見る。 | S29: STEP1 | T29: 収入金額を 所得金額に 換算する | U29: 収入－必要経費 | V29: 国税庁の換算表などを用いる
N31: ●年金収入 | V31: 給与所得＋年金所得両方ある場合は、さらに10万円を引く。
N32: ○65歳未満の場合
N33: 換算表を用いて換算して所得金額を出す。 | S33: STEP2 | X33: 15万円を引く
N35: ○65歳以上の場合
N36: 換算表を用いて換算して所得金額を出す（年金収入330万円未満のときは110万円引く）。
N37: 所得金額から15万円引く。
N38: 給与所得＋年金所得両方ある場合は、その金額から10万円引く。
N40: ●その他収入
N41: 所得金額を出す（収入－必要経費）。

Sheet 収入金額の入力について
A1: 収入金額の入力について
B3: ="令和"&'資料(非表示)'!$B$3&"年度分の試算をする場合" -> 令和8年度分の試算をする場合
B5: 年齢区分について
B6: ="・令和"&'資料(非表示)'!$B$3&"年4月2日現在の年齢区分を選択してください。" -> ・令和8年4月2日現在の年齢区分を選択してください。
B8: 収入状況について
B9: ="・令和"&'資料(非表示)'!$B$3-1&"年1月から12月までの給与収入額(総支給額)、給与所得の源泉徴収票をお持ちの方は「支払金額」の欄の数字を入力してください。" -> ・令和7年1月から12月までの給与収入額(総支給額)、給与所得の源泉徴収票をお持ちの方は「支払金額」の欄の数字を入力してください。
B10: ="・令和"&'資料(非表示)'!$B$3-1&"年1月から12月までの公的年金収入額(年間支給額)、公的年金等の源泉徴収票をお持ちの方は「支払金額」の欄の数字を入力してください。" -> ・令和7年1月から12月までの公的年金収入額(年間支給額)、公的年金等の源泉徴収票をお持ちの方は「支払金額」の欄の数字を入力してください。
B11: (障害年金や遺族年金は非課税のため、0円です。)
B12: ="・令和"&'資料(非表示)'!$B$3-1&"年1月から12月までの給与・公的年金以外の所得(営業や不動産所得などで必要経費を差し引いた額)の合計金額の数字を入力してください。" -> ・令和7年1月から12月までの給与・公的年金以外の所得(営業や不動産所得などで必要経費を差し引いた額)の合計金額の数字を入力してください。
B13: ="・令和"&'資料(非表示)'!$B$3&"年1月1日現在の住所地において、収入の申告をしていない方は、試算と実際の賦課金額が異なることがあります。" -> ・令和8年1月1日現在の住所地において、収入の申告をしていない方は、試算と実際の賦課金額が異なることがあります。
B16: ■給与収入の場合
B51: ■公的年金収入の場合
B84: ■その他所得の場合

Sheet 給与所得の求め方
A1: 給与所得の求め方について
F2: 国税庁のR7税制改正後の換算表を基に作成したものです
A3: ="令和"&'資料(非表示)'!$B$3&"年度分の試算をするとき" -> 令和8年度分の試算をするとき
B5: 給与収入額を入力してください | E5: 給与所得額はこちらです
B6: 0 | C6: → | E6: {=IF(OR(B6="",B6=0),0,_xlfn.IFS($B$6>=8500000,$B$6-1950000,$B$6>=6600000,$B$6*0.9-1100000,$B$6>=3600000,ROUNDDOWN($B$6/4,-3)*3.2-440000,$B$6>=1900000,ROUNDDOWN($B$6/4,-3)*2.8-80000,$B$6>=651000,$B$6-650000,$B$6>0,0))} -> 0
E8: (非自発軽減制度に該当する場合の給与所得額はこちらです)
E9: =E6*0.3 -> 0
B14: ="令和"&'資料(非表示)'!$B$3-1&"年分の所得換算表" -> 令和7年分の所得換算表
B15: 給与の収入金額（Ａ） | C15: 所得金額
B16: １円以上 650,999円以下 | C16: 0円
B17: 651,000円以上 1,899,999円以下 | C17: (A) － 650,000円
B18: 1,900,000円以上 3,599,999円以下 | C18: （Ｂ）=（Ａ）／ 4 （千円未満切捨て） | D18: （Ｂ） × 2.8－80,000円
B19: 3,600,000円以上 6,599,999円以下 | C19: （Ｂ）=（Ａ）／ 4 （千円未満切捨て） | D19: （Ｂ） × 3.2－440,000円
B20: 6,600,000円以上 8,499,999円以下 | C20: （Ａ）× 0.9－1,100,000円
B21: 8,500,000円以上 | C21: （Ａ）－1,950,000円

Sheet 公的年金等の所得の求め方
A1: 公的年金等の所得の求め方について
I2: 国税庁のR7税制改正後の換算表を基に作成したものです
A3: ="令和"&'資料(非表示)'!$B$3&"年度分の試算をするとき" -> 令和8年度分の試算をするとき
I4: ※計算結果がマイナスになるときは、所得金額を0円とします。
B5: 年金収入額を入力してください | G5: 65歳以上の方の年金所得額はこちらです
B6: 0 | C6: → | E6: → | H6: =IF(OR($B$6="",$B$6=0),0,IF($B$6>=10000000,$B$6-1950000,IF(AND($B$6<10000000,$B$6>=7700000),$B$6*0.95-1455000,IF(AND($B$6<7700000,$B$6>=4100000),$B$6*0.85-685000,IF(AND($B$6<4100000,$B$6>=3300000),$B$6*0.75-275000,IF(AND($B$6>=1,$B$6<3300000),$B$6-1100000,0)))))) -> 0
B7: ・年金収入が1,000万円以下のみ
B8: ・障害年金や遺族年金は非課税のため、0円です。
E10: → | G10: 65歳未満の方の年金所得額はこちらです
H11: =IF(OR($B$6="",$B$6=0),0,IF($B$6>=10000000,$B$6-1950000,IF(AND($B$6<10000000,$B$6>=7700000),$B$6*0.95-1455000,IF(AND($B$6<7700000,$B$6>=4100000),$B$6*0.85-685000,IF(AND($B$6<4100000,$B$6>=1300000),$B$6*0.75-275000,IF(AND($B$6>=1,$B$6<1300000),$B$6-600000,0)))))) -> 0
B13: ①65歳以上の方
B14: ="昭和"&'資料(非表示)'!$B$38&"年1月1日以前に生まれた方" -> 昭和36年1月1日以前に生まれた方
B16: 公的年金 収入金額 | C16: 公的年金等以外の合計所得が 1,000万円以下
B17: 330万円未満 | C17: 年金収入－110万円
B18: 330万円以上 410万円未満 | C18: 年金収入×0.75－27万5千円
B19: 410万円以上 770万円未満 | C19: 年金収入×0.85－68万5千円
B20: 770万円以上 1,000万円未満 | C20: 年金収入×0.95－145万5千円
B21: 1,000万円以上 | C21: 年金収入－195万5千円
B25: ②65歳未満の方
B26: ="昭和"&'資料(非表示)'!$B$38&"年1月2日以後に生まれた方" -> 昭和36年1月2日以後に生まれた方
B28: 公的年金 収入金額 | C28: 公的年金等以外の合計所得が 1,000万円以下
B29: 130万円未満 | C29: 年金収入－60万円
B30: 130万円以上 410万円未満 | C30: 年金収入×0.75－27万5千円
B31: 410万円以上 770万円未満 | C31: 年金収入×0.85－68万5千円
B32: 770万円以上 1,000万円未満 | C32: 年金収入×0.95－145万5千円
B33: 1,000万円以上 | C33: 年金収入－195万5千円

Sheet 計算用(非表示)
A1: 国民健康保険料計算用シート
A2: 黄色の塗りつぶし＆赤字は☆計算シートより反映。料率等の変更がある場合には、計算用シートではなく「資料」シートを修正してください。
A4: 被保険者数 | B4: =☆試算シート!$C$29 -> 0 | C4: 名 | N4: ↓R7税制改正前を適用
C5: 判定 | D5: 判定 | E5: 判定 | F5: 判定 | N5: ①判定 | O5: ②判定 | P5: ③判定 | Q5: ①②③判定 | R5: 一律43万円（合計所得2,400万円以内を想定） | S5: 合計所得-43万円 | T5: 合計所得（合計所得が15万以下の場合は0円、65歳以上は年金所得からさらに-15万円） | AE5: 7・5・2軽減 | AF5: 未就学児はさらに半額 | AG5: マイナス額 | AH5: 7・5・2軽減 | AI5: 未就学児はさらに半額 | AJ5: マイナス額 | AK5: 7・5・2軽減 | AL5: マイナス額 | AM5: 18歳未満は子ども分減額 | AN5: マイナス額 | AO5: マイナス額 | AU5: マイナス額 | AV5: マイナス額 | AW5: マイナス額 | AX5: マイナス額 | AY5: マイナス額
B6: 年齢区分 | C6: 1:普主／ 2:擬主 | D6: 未就学児 | E6: 18歳未満 | F6: 介護該当 | G6: 給与収入 | H6: 給与所得 | I6: 年金収入 | J6: 年金所得 | K6: その他収入 | L6: その他所得 | M6: 所得合計 | N6: 給与収入55万超 | O6: 65歳未満で年金60万超 | P6: 65歳以上で年金収入125万超 | Q6: 給与所得者の数 | R6: 基礎控除 | S6: 課税標準額 | T6: 軽減判定所得 | U6: 医療分所得割 | V6: 支援分所得割 | W6: 介護分所得割 | X6: 子ども分所得割 | Y6: 所得割計 | Z6: 医療分均等割 | AA6: 支援分均等割 | AB6: 介護分均等割 | AC6: 子ども分均等割 | AD6: 均等割計 | AE6: 医療分均等割軽減額 | AF6: 医療分未就学児軽減額 | AG6: 医療分均等割軽減額 | AH6: 支援分均等割軽減額 | AI6: 支援分未就学児軽減額 | AJ6: 支援均等割軽減額 | AK6: 介護分均等割軽減額 | AL6: 介護均等割軽減額 | AM6: 子ども分均等割軽減額 | AN6: 子ども分均等割軽減額 | AO6: 均等割軽減計 | AP6: 医療分平等割 | AQ6: 支援分平等割 | AR6: 介護分平等割 | AS6: 子ども分平等割 | AT6: 平等割計 | AU6: 医療分平等割軽減額 | AV6: 支援分平等割軽減額 | AW6: 介護分平等割軽減額 | AX6: 子ども分平等割軽減額 | AY6: 平等割軽減計 | BB6: チェック用 | BD6: チェック用 | BF6: チェック用
A7: 世帯主 | B7: =☆試算シート!C36 -> 0 | C7: =IF(☆試算シート!C36="","",IF($B7="加入しない",2,1)) | D7: =IF($B7="","",IF($B7="未就学児",1,0)) -> 0 | E7: =IF($B7="","",IF(OR($B7="未就学児",$B7="小・中・高校生"),1,0)) -> 0 | F7: =IF($B7="","",IF($B7="40歳～64歳",1,0)) -> 0 | G7: =☆試算シート!D36 -> 0 | H7: =☆試算シート!E36 -> 0 | I7: =☆試算シート!F36 -> 0 | J7: =☆試算シート!G36 -> 0 | K7: =☆試算シート!H36 -> 0 | L7: =☆試算シート!I36 -> 0 | M7: =IF(B7="","",IF($L7<0,0,$H7+$J7+$L7)) -> 0 | N7: =IF($G7>'資料(非表示)'!$A$22,1,0) -> 0 | O7: =IF($B7="","",IF(AND($I7<1,$I7>'資料(非表示)'!$A$24,OR($B7="未就学児",$B7="小・中・高校生",$B7="18歳～39歳",$B7="40歳～64歳")),1,0)) -> 0 | P7: =IF($B7="","",IF((AND($B7="65歳～74歳",$I7>'資料(非表示)'!$A$26)),1,0)) -> 0 | Q7: =IF(SUM($N7:$P7)>=1,1,0) -> 0 | R7: =IF(OR(M7="",M7=0,M7<430000),0,430000) -> 0 | S7: =IF($C$7=2,0,IF(($H7+$J7+$L7)<430000,0,$H7+$J7+$L7-$R7)) -> 0 | T7: =IF($M7<=150000,0,IF(OR(AND($B7="65歳～74歳",$J7>150000),AND($B7="加入しない",$J7>150000)),H7+J7-150000+L7,M7)) -> 0 | U7: =IF($B7="",0,INT($S7*'資料(非表示)'!$B$8)) -> 0 | V7: =IF($B7="",0,INT($S7*'資料(非表示)'!$C$8)) -> 0 | W7: =IF(OR($B7="",$B7<>"40歳～64歳"),0,INT($S7*'資料(非表示)'!$D$8)) -> 0 | X7: =IF($B7="",0,INT($S7*'資料(非表示)'!$E$8)) -> 0 | Y7: =SUM(U7:X7) -> 0 | Z7: =IF(OR(☆試算シート!C36="",☆試算シート!C36="加入しない",),0,'資料(非表示)'!$B$9) -> 0 | AA7: =IF(OR(☆試算シート!C36="",☆試算シート!D36="加入しない",),0,'資料(非表示)'!$C$9) -> 0 | AB7: =IF(OR($B7="",$B7<>"40歳～64歳",☆試算シート!$C36=""),0,('資料(非表示)'!$D$9)) -> 0 | AC7: =IF($B7="","",IF(OR($B7="18歳～39歳",$B7="40歳～64歳",$B7="65歳～74歳"),('資料(非表示)'!$E$9+'資料(非表示)'!$E$14),IF(OR($B7="未就学児",$B7="小・中・高校生"),'資料(非表示)'!$E$9,0))) -> 0 | AD7: =SUM(Z7:AC7) -> 0 | AE7: =IF($Z7=0,0,IF($D$21="軽減なし",0,IF($D$21="７割軽減",ROUNDDOWN(SUM($Z7)*0.7,-1),IF($D$21="５割軽減",ROUNDDOWN(SUM($Z7)*0.5,-1),IF($D$21="２割軽減",ROUNDDOWN(SUM($Z7)*0.2,-1),ROUNDDOWN(SUM($Z7),-1)))))) -> 0 | AF7: =IF($B7="未就学児",($Z7-$AE7)*0.5,0) -> 0 | AG7: =SUM($AE7:$AF7) -> 0 | AH7: =IF($AA7=0,0,IF($D$21="軽減なし",0,IF($D$21="７割軽減",ROUNDDOWN(SUM($AA7)*0.7,-1),IF($D$21="５割軽減",ROUNDDOWN(SUM($AA7)*0.5,-1),IF($D$21="２割軽減",ROUNDDOWN(SUM($AA7)*0.2,-1),ROUNDDOWN(SUM($AA7),-1)))))) -> 0 | AI7: =IF($B7="未就学児",($AA7-$AH7)*0.5,0) -> 0 | AJ7: =SUM($AH7:$AI7) -> 0 | AK7: =IF($AB7=0,0,IF($D$21="軽減なし",0,IF($D$21="７割軽減",ROUNDDOWN(SUM($AB7)*0.7,-1),IF($D$21="５割軽減",ROUNDDOWN(SUM($AB7)*0.5,-1),IF($D$21="２割軽減",ROUNDDOWN(SUM($AB7)*0.2,-1),ROUNDDOWN(SUM($AB7),-1)))))) -> 0 | AL7: =SUM($AK7:$AK7) -> 0 | AM7: =IF(OR($D7=1,$E7=1),'資料(非表示)'!$E$9,IF($AC7=0,0,IF($D$21="軽減なし",0,IF($D$21="７割軽減",ROUNDDOWN(SUM($AC7)*0.7,-1),IF($D$21="５割軽減",ROUNDDOWN(SUM($AC7)*0.5,-1),IF($D$21="２割軽減",ROUNDDOWN(SUM($AC7)*0.2,-1),ROUNDDOWN(SUM($AC7),-1))))))) -> 0 | AN7: =AM7 -> 0 | AO7: =SUM($AG7,$AJ7,$AL7,$AN7) -> 0 | AP7: =IF(OR($B7="",☆試算シート!$C36=""),0,('資料(非表示)'!$B$10)) -> 0 | AQ7: =IF(OR($B7="",☆試算シート!$C36=""),0,('資料(非表示)'!$C$10)) -> 0 | AR7: =IF(OR($B7="",$F$14=0),0,'資料(非表示)'!$D$10) -> 0 | AS7: =IF(OR($B7="",☆試算シート!$C36=""),0,('資料(非表示)'!$E$10)) -> 0 | AT7: =SUM($AP7:$AS13) -> 0 | AU7: =IF($AP7=0,0,IF($D$21="軽減なし",0,IF($D$21="７割軽減",ROUNDDOWN(SUM($AP$7)*0.7,-1),IF($D$21="５割軽減",ROUNDDOWN(SUM($AP$7)*0.5,-1),IF($D$21="２割軽減",ROUNDDOWN(SUM($AP$7)*0.2,-1),ROUNDDOWN(SUM($AP$7),-1)))))) -> 0 | AV7: =IF($AQ7=0,0,IF($D$21="軽減なし",0,IF($D$21="７割軽減",ROUNDDOWN(SUM($AQ$7)*0.7,-1),IF($D$21="５割軽減",ROUNDDOWN(SUM($AQ$7)*0.5,-1),IF($D$21="２割軽減",ROUNDDOWN(SUM($AQ$7)*0.2,-1),ROUNDDOWN(SUM($AQ$7),-1)))))) -> 0 | AW7: =IF($AR7=0,0,IF($D$21="軽減なし",0,IF($D$21="７割軽減",ROUNDDOWN(SUM($AR7)*0.7,-1),IF($D$21="５割軽減",ROUNDDOWN(SUM($AR7)*0.5,-1),IF($D$21="２割軽減",ROUNDDOWN(SUM($AR7)*0.2,-1),ROUNDDOWN(SUM($AR7),-1)))))) -> 0 | AX7: =IF($AS7=0,0,IF($D$21="軽減なし",0,IF($D$21="７割軽減",ROUNDDOWN(SUM($AS$7)*0.7,-1),IF($D$21="５割軽減",ROUNDDOWN(SUM($AS$7)*0.5,-1),IF($D$21="２割軽減",ROUNDDOWN(SUM($AS$7)*0.2,-1),ROUNDDOWN(SUM($AS$7),-1)))))) -> 0 | AY7: =SUM($AU7:$AX13) -> 0 | BB7: =SUM(U7:X7,Z7:AC7,AP7:AS7)-SUM(AG7,AJ7,AL7,AN7,AU7:AX7) -> 0 | BD7: =COUNTA(☆試算シート!$C$36:$C$43) -> 0
A8: 加入者① | B8: =☆試算シート!C38 -> 0 | D8: =IF($B8="","",IF($B8="未就学児",1,0)) -> 0 | E8: =IF($B8="","",IF(OR($B8="未就学児",$B8="小・中・高校生"),1,0)) -> 0 | F8: =IF($B8="","",IF($B8="40歳～64歳",1,0)) -> 0 | G8: =☆試算シート!C38 -> 0 | H8: =☆試算シート!D38 -> 0 | I8: =☆試算シート!E38 -> 0 | J8: =☆試算シート!F38 -> 0 | K8: =☆試算シート!G38 -> 0 | L8: =☆試算シート!H38 -> 0 | M8: =IF(B8="","",IF($L8<0,0,$H8+$J8+$L8)) -> 0 | N8: =IF($G8>'資料(非表示)'!$A$22,1,0) -> 0 | O8: =IF($B8="","",IF(AND($I8<1,$I8>'資料(非表示)'!$A$24,OR($B8="未就学児",$B8="小・中・高校生",$B8="18歳～39歳",$B8="40歳～64歳")),1,0)) -> 0 | P8: =IF($B8="","",IF((AND($B8="65歳～74歳",$I8>'資料(非表示)'!$A$26)),1,0)) -> 0 | Q8: =IF(SUM($N8:$P8)>=1,1,0) -> 0 | R8: =IF(OR(M8="",M8=0,M8<430000),0,430000) -> 0 | S8: =IF(OR(☆試算シート!C38="",($H8+$J8+$L8<430000)),0,$H8+$J8+$L8-$R8) -> 0 | T8: =IF($M8<=150000,0,IF(AND($B8="65歳～74歳",$J8>150000),H8+J8-150000+L8,M8)) -> 0 | U8: =IF($B8="",0,INT($S8*'資料(非表示)'!$B$8)) -> 0 | V8: =IF($B8="",0,INT($S8*'資料(非表示)'!$C$8)) -> 0 | W8: =IF(OR($B8="",$B8<>"40歳～64歳"),0,INT($S8*'資料(非表示)'!$D$8)) -> 0 | X8: =IF($B8="",0,INT($S8*'資料(非表示)'!$E$8)) -> 0 | Y8: =SUM(U8:X8) -> 0 | Z8: =IF(☆試算シート!$C38="",0,'資料(非表示)'!$B$9) -> 0 | AA8: =IF(☆試算シート!$C38="",0,'資料(非表示)'!$C$9) -> 0 | AB8: =IF(OR($B8="",$B8<>"40歳～64歳",☆試算シート!$C37=""),0,('資料(非表示)'!$D$9)) -> 0 | AC8: =IF($B8="","",IF(OR($B8="18歳～39歳",$B8="40歳～64歳",$B8="65歳～74歳"),('資料(非表示)'!$E$9+'資料(非表示)'!$E$14),IF(OR($B8="未就学児",$B8="小・中・高校生"),'資料(非表示)'!$E$9,0))) -> 0 | AD8: =SUM(Z8:AC8) -> 0 | AE8: =IF($Z8=0,0,IF($D$21="軽減なし",0,IF($D$21="７割軽減",ROUNDDOWN(SUM($Z8)*0.7,-1),IF($D$21="５割軽減",ROUNDDOWN(SUM($Z8)*0.5,-1),IF($D$21="２割軽減",ROUNDDOWN(SUM($Z8)*0.2,-1),ROUNDDOWN(SUM($Z8),-1)))))) -> 0 | AF8: =IF($B8="未就学児",($Z8-$AE8)*0.5,0) -> 0 | AG8: =SUM($AE8:$AF8) -> 0 | AH8: =IF($AA8=0,0,IF($D$21="軽減なし",0,IF($D$21="７割軽減",ROUNDDOWN(SUM($AA8)*0.7,-1),IF($D$21="５割軽減",ROUNDDOWN(SUM($AA8)*0.5,-1),IF($D$21="２割軽減",ROUNDDOWN(SUM($AA8)*0.2,-1),ROUNDDOWN(SUM($AA8),-1)))))) -> 0 | AI8: =IF($B8="未就学児",($AA8-$AH8)*0.5,0) -> 0 | AJ8: =SUM($AH8:$AI8) -> 0 | AK8: =IF($AB8=0,0,IF($D$21="軽減なし",0,IF($D$21="７割軽減",ROUNDDOWN(SUM($AB8)*0.7,-1),IF($D$21="５割軽減",ROUNDDOWN(SUM($AB8)*0.5,-1),IF($D$21="２割軽減",ROUNDDOWN(SUM($AB8)*0.2,-1),ROUNDDOWN(SUM($AB8),-1)))))) -> 0 | AL8: =SUM($AK8:$AK8) -> 0 | AM8: =IF(OR($D8=1,$E8=1),'資料(非表示)'!$E$9,IF($AC8=0,0,IF($D$21="軽減なし",0,IF($D$21="７割軽減",ROUNDDOWN(SUM($AC8)*0.7,-1),IF($D$21="５割軽減",ROUNDDOWN(SUM($AC8)*0.5,-1),IF($D$21="２割軽減",ROUNDDOWN(SUM($AC8)*0.2,-1),ROUNDDOWN(SUM($AC8),-1))))))) -> 0 | AN8: =AM8 -> 0 | AO8: =SUM($AG8,$AJ8,$AL8,$AN8) -> 0 | AR8: =IF(OR($B8="",$F8=0,AR7>0),0,'資料(非表示)'!$D$10) -> 0 | AW8: =IF($AR8=0,0,IF($D$21="軽減なし",0,IF($D$21="７割軽減",ROUNDDOWN(SUM($AR8)*0.7,-1),IF($D$21="５割軽減",ROUNDDOWN(SUM($AR8)*0.5,-1),IF($D$21="２割軽減",ROUNDDOWN(SUM($AR8)*0.2,-1),ROUNDDOWN(SUM($AR8),-1)))))) -> 0 | BB8: =SUM(U8:X8,Z8:AC8,AP8:AS8)-SUM(AG8,AJ8,AL8,AN8,AU8:AX8) -> 0
A9: 加入者② | B9: =☆試算シート!C39 -> 0 | D9: =IF($B9="","",IF($B9="未就学児",1,0)) -> 0 | E9: =IF($B9="","",IF(OR($B9="未就学児",$B9="小・中・高校生"),1,0)) -> 0 | F9: =IF($B9="","",IF($B9="40歳～64歳",1,0)) -> 0 | G9: =☆試算シート!C39 -> 0 | H9: =☆試算シート!D39 -> 0 | I9: =☆試算シート!E39 -> 0 | J9: =☆試算シート!F39 -> 0 | K9: =☆試算シート!G39 -> 0 | L9: =☆試算シート!H39 -> 0 | M9: =IF(B9="","",IF($L9<0,0,$H9+$J9+$L9)) -> 0 | N9: =IF($G9>'資料(非表示)'!$A$22,1,0) -> 0 | O9: =IF($B9="","",IF(AND($I9<1,$I9>'資料(非表示)'!$A$24,OR($B9="未就学児",$B9="小・中・高校生",$B9="18歳～39歳",$B9="40歳～64歳")),1,0)) -> 0 | P9: =IF($B9="","",IF((AND($B9="65歳～74歳",$I9>'資料(非表示)'!$A$26)),1,0)) -> 0 | Q9: =IF(SUM($N9:$P9)>=1,1,0) -> 0 | R9: =IF(OR(M9="",M9=0,M9<430000),0,430000) -> 0 | S9: =IF(OR(☆試算シート!C39="",($H9+$J9+$L9<430000)),0,$H9+$J9+$L9-$R9) -> 0 | T9: =IF($M9<=150000,0,IF(AND($B9="65歳～74歳",$J9>150000),H9+J9-150000+L9,M9)) -> 0 | U9: =IF($B9="",0,INT($S9*'資料(非表示)'!$B$8)) -> 0 | V9: =IF($B9="",0,INT($S9*'資料(非表示)'!$C$8)) -> 0 | W9: =IF(OR($B9="",$B9<>"40歳～64歳"),0,INT($S9*'資料(非表示)'!$D$8)) -> 0 | X9: =IF($B9="",0,INT($S9*'資料(非表示)'!$E$8)) -> 0 | Y9: =SUM(U9:X9) -> 0 | Z9: =IF(☆試算シート!$C39="",0,'資料(非表示)'!$B$9) -> 0 | AA9: =IF(☆試算シート!$C39="",0,'資料(非表示)'!$C$9) -> 0 | AB9: =IF(OR($B9="",$B9<>"40歳～64歳",☆試算シート!$C38=""),0,('資料(非表示)'!$D$9)) -> 0 | AC9: =IF($B9="","",IF(OR($B9="18歳～39歳",$B9="40歳～64歳",$B9="65歳～74歳"),('資料(非表示)'!$E$9+'資料(非表示)'!$E$14),IF(OR($B9="未就学児",$B9="小・中・高校生"),'資料(非表示)'!$E$9,0))) -> 0 | AD9: =SUM(Z9:AC9) -> 0 | AE9: =IF($Z9=0,0,IF($D$21="軽減なし",0,IF($D$21="７割軽減",ROUNDDOWN(SUM($Z9)*0.7,-1),IF($D$21="５割軽減",ROUNDDOWN(SUM($Z9)*0.5,-1),IF($D$21="２割軽減",ROUNDDOWN(SUM($Z9)*0.2,-1),ROUNDDOWN(SUM($Z9),-1)))))) -> 0 | AF9: =IF($B9="未就学児",($Z9-$AE9)*0.5,0) -> 0 | AG9: =SUM($AE9:$AF9) -> 0 | AH9: =IF($AA9=0,0,IF($D$21="軽減なし",0,IF($D$21="７割軽減",ROUNDDOWN(SUM($AA9)*0.7,-1),IF($D$21="５割軽減",ROUNDDOWN(SUM($AA9)*0.5,-1),IF($D$21="２割軽減",ROUNDDOWN(SUM($AA9)*0.2,-1),ROUNDDOWN(SUM($AA9),-1)))))) -> 0 | AI9: =IF($B9="未就学児",($AA9-$AH9)*0.5,0) -> 0 | AJ9: =SUM($AH9:$AI9) -> 0 | AK9: =IF($AB9=0,0,IF($D$21="軽減なし",0,IF($D$21="７割軽減",ROUNDDOWN(SUM($AB9)*0.7,-1),IF($D$21="５割軽減",ROUNDDOWN(SUM($AB9)*0.5,-1),IF($D$21="２割軽減",ROUNDDOWN(SUM($AB9)*0.2,-1),ROUNDDOWN(SUM($AB9),-1)))))) -> 0 | AL9: =SUM($AK9:$AK9) -> 0 | AM9: =IF(OR($D9=1,$E9=1),'資料(非表示)'!$E$9,IF($AC9=0,0,IF($D$21="軽減なし",0,IF($D$21="７割軽減",ROUNDDOWN(SUM($AC9)*0.7,-1),IF($D$21="５割軽減",ROUNDDOWN(SUM($AC9)*0.5,-1),IF($D$21="２割軽減",ROUNDDOWN(SUM($AC9)*0.2,-1),ROUNDDOWN(SUM($AC9),-1))))))) -> 0 | AN9: =AM9 -> 0 | AO9: =SUM($AG9,$AJ9,$AL9,$AN9) -> 0 | AR9: =IF(OR($B9="",$F9=0,AR7>0,AR8>0),0,'資料(非表示)'!$D$10) -> 0 | AW9: =IF($AR9=0,0,IF($D$21="軽減なし",0,IF($D$21="７割軽減",ROUNDDOWN(SUM($AR9)*0.7,-1),IF($D$21="５割軽減",ROUNDDOWN(SUM($AR9)*0.5,-1),IF($D$21="２割軽減",ROUNDDOWN(SUM($AR9)*0.2,-1),ROUNDDOWN(SUM($AR9),-1)))))) -> 0 | BB9: =SUM(U9:X9,Z9:AC9,AP9:AS9)-SUM(AG9,AJ9,AL9,AN9,AU9:AX9) -> 0
A10: 加入者③ | B10: =☆試算シート!C40 -> 0 | D10: =IF($B10="","",IF($B10="未就学児",1,0)) -> 0 | E10: =IF($B10="","",IF(OR($B10="未就学児",$B10="小・中・高校生"),1,0)) -> 0 | F10: =IF($B10="","",IF($B10="40歳～64歳",1,0)) -> 0 | G10: =☆試算シート!C40 -> 0 | H10: =☆試算シート!D40 -> 0 | I10: =☆試算シート!E40 -> 0 | J10: =☆試算シート!F40 -> 0 | K10: =☆試算シート!G40 -> 0 | L10: =☆試算シート!H40 -> 0 | M10: =IF(B10="","",IF($L10<0,0,$H10+$J10+$L10)) -> 0 | N10: =IF($G10>'資料(非表示)'!$A$22,1,0) -> 0 | O10: =IF($B10="","",IF(AND($I10<1,$I10>'資料(非表示)'!$A$24,OR($B10="未就学児",$B10="小・中・高校生",$B10="18歳～39歳",$B10="40歳～64歳")),1,0)) -> 0 | P10: =IF($B10="","",IF((AND($B10="65歳～74歳",$I10>'資料(非表示)'!$A$26)),1,0)) -> 0 | Q10: =IF(SUM($N10:$P10)>=1,1,0) -> 0 | R10: =IF(OR(M10="",M10=0,M10<430000),0,430000) -> 0 | S10: =IF(OR(☆試算シート!C40="",($H10+$J10+$L10<430000)),0,$H10+$J10+$L10-$R10) -> 0 | T10: =IF($M10<=150000,0,IF(AND($B10="65歳～74歳",$J10>150000),H10+J10-150000+L10,M10)) -> 0 | U10: =IF($B10="",0,INT($S10*'資料(非表示)'!$B$8)) -> 0 | V10: =IF($B10="",0,INT($S10*'資料(非表示)'!$C$8)) -> 0 | W10: =IF(OR($B10="",$B10<>"40歳～64歳"),0,INT($S10*'資料(非表示)'!$D$8)) -> 0 | X10: =IF($B10="",0,INT($S10*'資料(非表示)'!$E$8)) -> 0 | Y10: =SUM(U10:X10) -> 0 | Z10: =IF(☆試算シート!$C40="",0,'資料(非表示)'!$B$9) -> 0 | AA10: =IF(☆試算シート!$C40="",0,'資料(非表示)'!$C$9) -> 0 | AB10: =IF(OR($B10="",$B10<>"40歳～64歳",☆試算シート!$C39=""),0,('資料(非表示)'!$D$9)) -> 0 | AC10: =IF($B10="","",IF(OR($B10="18歳～39歳",$B10="40歳～64歳",$B10="65歳～74歳"),('資料(非表示)'!$E$9+'資料(非表示)'!$E$14),IF(OR($B10="未就学児",$B10="小・中・高校生"),'資料(非表示)'!$E$9,0))) -> 0 | AD10: =SUM(Z10:AC10) -> 0 | AE10: =IF($Z10=0,0,IF($D$21="軽減なし",0,IF($D$21="７割軽減",ROUNDDOWN(SUM($Z10)*0.7,-1),IF($D$21="５割軽減",ROUNDDOWN(SUM($Z10)*0.5,-1),IF($D$21="２割軽減",ROUNDDOWN(SUM($Z10)*0.2,-1),ROUNDDOWN(SUM($Z10),-1)))))) -> 0 | AF10: =IF($B10="未就学児",($Z10-$AE10)*0.5,0) -> 0 | AG10: =SUM($AE10:$AF10) -> 0 | AH10: =IF($AA10=0,0,IF($D$21="軽減なし",0,IF($D$21="７割軽減",ROUNDDOWN(SUM($AA10)*0.7,-1),IF($D$21="５割軽減",ROUNDDOWN(SUM($AA10)*0.5,-1),IF($D$21="２割軽減",ROUNDDOWN(SUM($AA10)*0.2,-1),ROUNDDOWN(SUM($AA10),-1)))))) -> 0 | AI10: =IF($B10="未就学児",($AA10-$AH10)*0.5,0) -> 0 | AJ10: =SUM($AH10:$AI10) -> 0 | AK10: =IF($AB10=0,0,IF($D$21="軽減なし",0,IF($D$21="７割軽減",ROUNDDOWN(SUM($AB10)*0.7,-1),IF($D$21="５割軽減",ROUNDDOWN(SUM($AB10)*0.5,-1),IF($D$21="２割軽減",ROUNDDOWN(SUM($AB10)*0.2,-1),ROUNDDOWN(SUM($AB10),-1)))))) -> 0 | AL10: =SUM($AK10:$AK10) -> 0 | AM10: =IF(OR($D10=1,$E10=1),'資料(非表示)'!$E$9,IF($AC10=0,0,IF($D$21="軽減なし",0,IF($D$21="７割軽減",ROUNDDOWN(SUM($AC10)*0.7,-1),IF($D$21="５割軽減",ROUNDDOWN(SUM($AC10)*0.5,-1),IF($D$21="２割軽減",ROUNDDOWN(SUM($AC10)*0.2,-1),ROUNDDOWN(SUM($AC10),-1))))))) -> 0 | AN10: =AM10 -> 0 | AO10: =SUM($AG10,$AJ10,$AL10,$AN10) -> 0 | AR10: =IF(OR($B10="",$F10=0,AR7>0,AR8>0,AR9>0),0,'資料(非表示)'!$D$10) -> 0 | AW10: =IF($AR10=0,0,IF($D$21="軽減なし",0,IF($D$21="７割軽減",ROUNDDOWN(SUM($AR10)*0.7,-1),IF($D$21="５割軽減",ROUNDDOWN(SUM($AR10)*0.5,-1),IF($D$21="２割軽減",ROUNDDOWN(SUM($AR10)*0.2,-1),ROUNDDOWN(SUM($AR10),-1)))))) -> 0 | BB10: =SUM(U10:X10,Z10:AC10,AP10:AS10)-SUM(AG10,AJ10,AL10,AN10,AU10:AX10) -> 0
A11: 加入者④ | B11: =☆試算シート!C41 -> 0 | D11: =IF($B11="","",IF($B11="未就学児",1,0)) -> 0 | E11: =IF($B11="","",IF(OR($B11="未就学児",$B11="小・中・高校生"),1,0)) -> 0 | F11: =IF($B11="","",IF($B11="40歳～64歳",1,0)) -> 0 | G11: =☆試算シート!C41 -> 0 | H11: =☆試算シート!D41 -> 0 | I11: =☆試算シート!E41 -> 0 | J11: =☆試算シート!F41 -> 0 | K11: =☆試算シート!G41 -> 0 | L11: =☆試算シート!H41 -> 0 | M11: =IF(B11="","",IF($L11<0,0,$H11+$J11+$L11)) -> 0 | N11: =IF($G11>'資料(非表示)'!$A$22,1,0) -> 0 | O11: =IF($B11="","",IF(AND($I11<1,$I11>'資料(非表示)'!$A$24,OR($B11="未就学児",$B11="小・中・高校生",$B11="18歳～39歳",$B11="40歳～64歳")),1,0)) -> 0 | P11: =IF($B11="","",IF((AND($B11="65歳～74歳",$I11>'資料(非表示)'!$A$26)),1,0)) -> 0 | Q11: =IF(SUM($N11:$P11)>=1,1,0) -> 0 | R11: =IF(OR(M11="",M11=0,M11<430000),0,430000) -> 0 | S11: =IF(OR(☆試算シート!C41="",($H11+$J11+$L11<430000)),0,$H11+$J11+$L11-$R11) -> 0 | T11: =IF($M11<=150000,0,IF(AND($B11="65歳～74歳",$J11>150000),H11+J11-150000+L11,M11)) -> 0 | U11: =IF($B11="",0,INT($S11*'資料(非表示)'!$B$8)) -> 0 | V11: =IF($B11="",0,INT($S11*'資料(非表示)'!$C$8)) -> 0 | W11: =IF(OR($B11="",$B11<>"40歳～64歳"),0,INT($S11*'資料(非表示)'!$D$8)) -> 0 | X11: =IF($B11="",0,INT($S11*'資料(非表示)'!$E$8)) -> 0 | Y11: =SUM(U11:X11) -> 0 | Z11: =IF(☆試算シート!$C41="",0,'資料(非表示)'!$B$9) -> 0 | AA11: =IF(☆試算シート!$C41="",0,'資料(非表示)'!$C$9) -> 0 | AB11: =IF(OR($B11="",$B11<>"40歳～64歳",☆試算シート!$C40=""),0,('資料(非表示)'!$D$9)) -> 0 | AC11: =IF($B11="","",IF(OR($B11="18歳～39歳",$B11="40歳～64歳",$B11="65歳～74歳"),('資料(非表示)'!$E$9+'資料(非表示)'!$E$14),IF(OR($B11="未就学児",$B11="小・中・高校生"),'資料(非表示)'!$E$9,0))) -> 0 | AD11: =SUM(Z11:AC11) -> 0 | AE11: =IF($Z11=0,0,IF($D$21="軽減なし",0,IF($D$21="７割軽減",ROUNDDOWN(SUM($Z11)*0.7,-1),IF($D$21="５割軽減",ROUNDDOWN(SUM($Z11)*0.5,-1),IF($D$21="２割軽減",ROUNDDOWN(SUM($Z11)*0.2,-1),ROUNDDOWN(SUM($Z11),-1)))))) -> 0 | AF11: =IF($B11="未就学児",($Z11-$AE11)*0.5,0) -> 0 | AG11: =SUM($AE11:$AF11) -> 0 | AH11: =IF($AA11=0,0,IF($D$21="軽減なし",0,IF($D$21="７割軽減",ROUNDDOWN(SUM($AA11)*0.7,-1),IF($D$21="５割軽減",ROUNDDOWN(SUM($AA11)*0.5,-1),IF($D$21="２割軽減",ROUNDDOWN(SUM($AA11)*0.2,-1),ROUNDDOWN(SUM($AA11),-1)))))) -> 0 | AI11: =IF($B11="未就学児",($AA11-$AH11)*0.5,0) -> 0 | AJ11: =SUM($AH11:$AI11) -> 0 | AK11: =IF($AB11=0,0,IF($D$21="軽減なし",0,IF($D$21="７割軽減",ROUNDDOWN(SUM($AB11)*0.7,-1),IF($D$21="５割軽減",ROUNDDOWN(SUM($AB11)*0.5,-1),IF($D$21="２割軽減",ROUNDDOWN(SUM($AB11)*0.2,-1),ROUNDDOWN(SUM($AB11),-1)))))) -> 0 | AL11: =SUM($AK11:$AK11) -> 0 | AM11: =IF(OR($D11=1,$E11=1),'資料(非表示)'!$E$9,IF($AC11=0,0,IF($D$21="軽減なし",0,IF($D$21="７割軽減",ROUNDDOWN(SUM($AC11)*0.7,-1),IF($D$21="５割軽減",ROUNDDOWN(SUM($AC11)*0.5,-1),IF($D$21="２割軽減",ROUNDDOWN(SUM($AC11)*0.2,-1),ROUNDDOWN(SUM($AC11),-1))))))) -> 0 | AN11: =AM11 -> 0 | AO11: =SUM($AG11,$AJ11,$AL11,$AN11) -> 0 | AR11: =IF(OR($B11="",$F11=0,AR7>0,AR8>0,AR9>0,AR10>0),0,'資料(非表示)'!$D$10) -> 0 | AW11: =IF($AR11=0,0,IF($D$21="軽減なし",0,IF($D$21="７割軽減",ROUNDDOWN(SUM($AR11)*0.7,-1),IF($D$21="５割軽減",ROUNDDOWN(SUM($AR11)*0.5,-1),IF($D$21="２割軽減",ROUNDDOWN(SUM($AR11)*0.2,-1),ROUNDDOWN(SUM($AR11),-1)))))) -> 0 | BB11: =SUM(U11:X11,Z11:AC11,AP11:AS11)-SUM(AG11,AJ11,AL11,AN11,AU11:AX11) -> 0
A12: 加入者⑤ | B12: =☆試算シート!C42 -> 0 | D12: =IF($B12="","",IF($B12="未就学児",1,0)) -> 0 | E12: =IF($B12="","",IF(OR($B12="未就学児",$B12="小・中・高校生"),1,0)) -> 0 | F12: =IF($B12="","",IF($B12="40歳～64歳",1,0)) -> 0 | G12: =☆試算シート!C42 -> 0 | H12: =☆試算シート!D42 -> 0 | I12: =☆試算シート!E42 -> 0 | J12: =☆試算シート!F42 -> 0 | K12: =☆試算シート!G42 -> 0 | L12: =☆試算シート!H42 -> 0 | M12: =IF(B12="","",IF($L12<0,0,$H12+$J12+$L12)) -> 0 | N12: =IF($G12>'資料(非表示)'!$A$22,1,0) -> 0 | O12: =IF($B12="","",IF(AND($I12<1,$I12>'資料(非表示)'!$A$24,OR($B12="未就学児",$B12="小・中・高校生",$B12="18歳～39歳",$B12="40歳～64歳")),1,0)) -> 0 | P12: =IF($B12="","",IF((AND($B12="65歳～74歳",$I12>'資料(非表示)'!$A$26)),1,0)) -> 0 | Q12: =IF(SUM($N12:$P12)>=1,1,0) -> 0 | R12: =IF(OR(M12="",M12=0,M12<430000),0,430000) -> 0 | S12: =IF(OR(☆試算シート!C42="",($H12+$J12+$L12<430000)),0,$H12+$J12+$L12-$R12) -> 0 | T12: =IF($M12<=150000,0,IF(AND($B12="65歳～74歳",$J12>150000),H12+J12-150000+L12,M12)) -> 0 | U12: =IF($B12="",0,INT($S12*'資料(非表示)'!$B$8)) -> 0 | V12: =IF($B12="",0,INT($S12*'資料(非表示)'!$C$8)) -> 0 | W12: =IF(OR($B12="",$B12<>"40歳～64歳"),0,INT($S12*'資料(非表示)'!$D$8)) -> 0 | X12: =IF($B12="",0,INT($S12*'資料(非表示)'!$E$8)) -> 0 | Y12: =SUM(U12:X12) -> 0 | Z12: =IF(☆試算シート!$C42="",0,'資料(非表示)'!$B$9) -> 0 | AA12: =IF(☆試算シート!$C42="",0,'資料(非表示)'!$C$9) -> 0 | AB12: =IF(OR($B12="",$B12<>"40歳～64歳",☆試算シート!$C41=""),0,('資料(非表示)'!$D$9)) -> 0 | AC12: =IF($B12="","",IF(OR($B12="18歳～39歳",$B12="40歳～64歳",$B12="65歳～74歳"),('資料(非表示)'!$E$9+'資料(非表示)'!$E$14),IF(OR($B12="未就学児",$B12="小・中・高校生"),'資料(非表示)'!$E$9,0))) -> 0 | AD12: =SUM(Z12:AC12) -> 0 | AE12: =IF($Z12=0,0,IF($D$21="軽減なし",0,IF($D$21="７割軽減",ROUNDDOWN(SUM($Z12)*0.7,-1),IF($D$21="５割軽減",ROUNDDOWN(SUM($Z12)*0.5,-1),IF($D$21="２割軽減",ROUNDDOWN(SUM($Z12)*0.2,-1),ROUNDDOWN(SUM($Z12),-1)))))) -> 0 | AF12: =IF($B12="未就学児",($Z12-$AE12)*0.5,0) -> 0 | AG12: =SUM($AE12:$AF12) -> 0 | AH12: =IF($AA12=0,0,IF($D$21="軽減なし",0,IF($D$21="７割軽減",ROUNDDOWN(SUM($AA12)*0.7,-1),IF($D$21="５割軽減",ROUNDDOWN(SUM($AA12)*0.5,-1),IF($D$21="２割軽減",ROUNDDOWN(SUM($AA12)*0.2,-1),ROUNDDOWN(SUM($AA12),-1)))))) -> 0 | AI12: =IF($B12="未就学児",($AA12-$AH12)*0.5,0) -> 0 | AJ12: =SUM($AH12:$AI12) -> 0 | AK12: =IF($AB12=0,0,IF($D$21="軽減なし",0,IF($D$21="７割軽減",ROUNDDOWN(SUM($AB12)*0.7,-1),IF($D$21="５割軽減",ROUNDDOWN(SUM($AB12)*0.5,-1),IF($D$21="２割軽減",ROUNDDOWN(SUM($AB12)*0.2,-1),ROUNDDOWN(SUM($AB12),-1)))))) -> 0 | AL12: =SUM($AK12:$AK12) -> 0 | AM12: =IF(OR($D12=1,$E12=1),'資料(非表示)'!$E$9,IF($AC12=0,0,IF($D$21="軽減なし",0,IF($D$21="７割軽減",ROUNDDOWN(SUM($AC12)*0.7,-1),IF($D$21="５割軽減",ROUNDDOWN(SUM($AC12)*0.5,-1),IF($D$21="２割軽減",ROUNDDOWN(SUM($AC12)*0.2,-1),ROUNDDOWN(SUM($AC12),-1))))))) -> 0 | AN12: =AM12 -> 0 | AO12: =SUM($AG12,$AJ12,$AL12,$AN12) -> 0 | AR12: =IF(OR($B12="",$F12=0,AR7>0,AR8>0,AR9>0,AR10>0,AR11>0),0,'資料(非表示)'!$D$10) -> 0 | AW12: =IF($AR12=0,0,IF($D$21="軽減なし",0,IF($D$21="７割軽減",ROUNDDOWN(SUM($AR12)*0.7,-1),IF($D$21="５割軽減",ROUNDDOWN(SUM($AR12)*0.5,-1),IF($D$21="２割軽減",ROUNDDOWN(SUM($AR12)*0.2,-1),ROUNDDOWN(SUM($AR12),-1)))))) -> 0 | BB12: =SUM(U12:X12,Z12:AC12,AP12:AS12)-SUM(AG12,AJ12,AL12,AN12,AU12:AX12) -> 0
A13: 加入者⑥ | B13: =☆試算シート!C43 -> 0 | D13: =IF($B13="","",IF($B13="未就学児",1,0)) -> 0 | E13: =IF($B13="","",IF(OR($B13="未就学児",$B13="小・中・高校生"),1,0)) -> 0 | F13: =IF($B13="","",IF($B13="40歳～64歳",1,0)) -> 0 | G13: =☆試算シート!C43 -> 0 | H13: =☆試算シート!D43 -> 0 | I13: =☆試算シート!E43 -> 0 | J13: =☆試算シート!F43 -> 0 | K13: =☆試算シート!G43 -> 0 | L13: =☆試算シート!H43 -> 0 | M13: =IF(B13="","",IF($L13<0,0,$H13+$J13+$L13)) -> 0 | N13: =IF($G13>'資料(非表示)'!$A$22,1,0) -> 0 | O13: =IF($B13="","",IF(AND($I13<1,$I13>'資料(非表示)'!$A$24,OR($B13="未就学児",$B13="小・中・高校生",$B13="18歳～39歳",$B13="40歳～64歳")),1,0)) -> 0 | P13: =IF($B13="","",IF((AND($B13="65歳～74歳",$I13>'資料(非表示)'!$A$26)),1,0)) -> 0 | Q13: =IF(SUM($N13:$P13)>=1,1,0) -> 0 | R13: =IF(OR(M13="",M13=0,M13<430000),0,430000) -> 0 | S13: =IF(OR(☆試算シート!C43="",($H13+$J13+$L13<430000)),0,$H13+$J13+$L13-$R13) -> 0 | T13: =IF($M13<=150000,0,IF(AND($B13="65歳～74歳",$J13>150000),H13+J13-150000+L13,M13)) -> 0 | U13: =IF($B13="",0,INT($S13*'資料(非表示)'!$B$8)) -> 0 | V13: =IF($B13="",0,INT($S13*'資料(非表示)'!$C$8)) -> 0 | W13: =IF(OR($B13="",$B13<>"40歳～64歳"),0,INT($S13*'資料(非表示)'!$D$8)) -> 0 | X13: =IF($B13="",0,INT($S13*'資料(非表示)'!$E$8)) -> 0 | Y13: =SUM(U13:X13) -> 0 | Z13: =IF(☆試算シート!$C43="",0,'資料(非表示)'!$B$9) -> 0 | AA13: =IF(☆試算シート!$C43="",0,'資料(非表示)'!$C$9) -> 0 | AB13: =IF(OR($B13="",$B13<>"40歳～64歳",☆試算シート!$C42=""),0,('資料(非表示)'!$D$9)) -> 0 | AC13: =IF($B13="","",IF(OR($B13="18歳～39歳",$B13="40歳～64歳",$B13="65歳～74歳"),('資料(非表示)'!$E$9+'資料(非表示)'!$E$14),IF(OR($B13="未就学児",$B13="小・中・高校生"),'資料(非表示)'!$E$9,0))) -> 0 | AD13: =SUM(Z13:AC13) -> 0 | AE13: =IF($Z13=0,0,IF($D$21="軽減なし",0,IF($D$21="７割軽減",ROUNDDOWN(SUM($Z13)*0.7,-1),IF($D$21="５割軽減",ROUNDDOWN(SUM($Z13)*0.5,-1),IF($D$21="２割軽減",ROUNDDOWN(SUM($Z13)*0.2,-1),ROUNDDOWN(SUM($Z13),-1)))))) -> 0 | AF13: =IF($B13="未就学児",($Z13-$AE13)*0.5,0) -> 0 | AG13: =SUM($AE13:$AF13) -> 0 | AH13: =IF($AA13=0,0,IF($D$21="軽減なし",0,IF($D$21="７割軽減",ROUNDDOWN(SUM($AA13)*0.7,-1),IF($D$21="５割軽減",ROUNDDOWN(SUM($AA13)*0.5,-1),IF($D$21="２割軽減",ROUNDDOWN(SUM($AA13)*0.2,-1),ROUNDDOWN(SUM($AA13),-1)))))) -> 0 | AI13: =IF($B13="未就学児",($AA13-$AH13)*0.5,0) -> 0 | AJ13: =SUM($AH13:$AI13) -> 0 | AK13: =IF($AB13=0,0,IF($D$21="軽減なし",0,IF($D$21="７割軽減",ROUNDDOWN(SUM($AB13)*0.7,-1),IF($D$21="５割軽減",ROUNDDOWN(SUM($AB13)*0.5,-1),IF($D$21="２割軽減",ROUNDDOWN(SUM($AB13)*0.2,-1),ROUNDDOWN(SUM($AB13),-1)))))) -> 0 | AL13: =SUM($AK13:$AK13) -> 0 | AM13: =IF(OR($D13=1,$E13=1),'資料(非表示)'!$E$9,IF($AC13=0,0,IF($D$21="軽減なし",0,IF($D$21="７割軽減",ROUNDDOWN(SUM($AC13)*0.7,-1),IF($D$21="５割軽減",ROUNDDOWN(SUM($AC13)*0.5,-1),IF($D$21="２割軽減",ROUNDDOWN(SUM($AC13)*0.2,-1),ROUNDDOWN(SUM($AC13),-1))))))) -> 0 | AN13: =AM13 -> 0 | AO13: =SUM($AG13,$AJ13,$AL13,$AN13) -> 0 | AR13: =IF(OR($B13="",$F13=0,AR7>0,AR8>0,AR9>0,AR10>0,AR11>0,AR12>0),0,'資料(非表示)'!$D$10) -> 0 | AW13: =IF($AR13=0,0,IF($D$21="軽減なし",0,IF($D$21="７割軽減",ROUNDDOWN(SUM($AR13)*0.7,-1),IF($D$21="５割軽減",ROUNDDOWN(SUM($AR13)*0.5,-1),IF($D$21="２割軽減",ROUNDDOWN(SUM($AR13)*0.2,-1),ROUNDDOWN(SUM($AR13),-1)))))) -> 0 | BB13: =SUM(U13:X13,Z13:AC13,AP13:AS13)-SUM(AG13,AJ13,AL13,AN13,AU13:AX13) -> 0
D14: =SUM(D7:D13) -> 0 | E14: =SUM(E7:E13) -> 0 | F14: =SUM(F7:F13) -> 0 | G14: =SUM(G7:G13) -> 0 | H14: =SUM(H7:H13) -> 0 | I14: =SUM(I7:I13) -> 0 | J14: =SUM(J7:J13) -> 0 | K14: =SUM(K7:K13) -> 0 | ... Q14: =SUM(Q7:Q13) -> 0 | S14: =SUM(S7:S13) -> 0 | T14: =SUM(T7:T13) -> 0 | U14: =SUM(U7:U13) -> 0 | V14: =SUM(V7:V13) -> 0 | W14: =SUM(W7:W13) -> 0 | X14: =SUM(X7:X13) -> 0 | Y14: =SUM(Y7:Y13) -> 0 | Z14: =SUM(Z7:Z13) -> 0 | ... AY14: =SUM(AY7:AY13) -> 0 | BB14: =SUM(BB7:BB13) -> 0
B15: エラーチェック
B16: =AZ22 -> OK | BB16: =SUM($L$21:$L$23)-SUM($L$24:$L$25) -> 0 | BD16: =☆試算シート!$C$29 -> 0
B17: =BB22 -> OK
B20: 課税標準額 | C20: 軽減判定所得 | D20: 軽減判定 | H20: 医療分 | I20: 支援金 | J20: 介護分 | K20: 子ども分 | L20: 計 | S20: ★資料 | AZ20: =BB14-BB16 -> 0 | BB20: =BD7-BD16 -> 0
B21: =SUM(S7:S13) -> 0 | C21: =SUM(T7:T13) -> 0 | D21: =IF($C$21="","",IF($C$21<=$M$38,$B$38,IF($C$21<=$M$37,$B$37,IF($C$21<=$M$36,$B$36,"軽減なし")))) -> ７割軽減 | G21: 所得割額 | H21: =U14 -> 0 | I21: =V14 -> 0 | J21: =W14 -> 0 | K21: =X14 -> 0 | L21: =SUM(H21:K21) -> 0 | S21: ='資料(非表示)'!A6 -> 【料率について】 | X21: ='資料(非表示)'!F6 -> 0 | Y21: ='資料(非表示)'!G6 -> 【軽減判定基準額について】
G22: 均等割額 | H22: =Z14 -> 0 | I22: =AA14 -> 0 | J22: =AB14 -> 0 | K22: =AC14 -> 0 | L22: =SUM(H22:K22) -> 0 | S22: ='資料(非表示)'!A7 -> 0 | T22: ='資料(非表示)'!B7 -> 医療分 | U22: ='資料(非表示)'!C7 -> 支援分 | V22: ='資料(非表示)'!D7 -> 介護分 | W22: ='資料(非表示)'!E7 -> 子ども分 | X22: ='資料(非表示)'!F7 -> 0 | Y22: ='資料(非表示)'!G7 -> 0 | Z22: ='資料(非表示)'!H7 -> 0 | ... AJ22: ='資料(非表示)'!R7 -> 0 | AZ22: =IF($AZ$20<>0,"数式エラーです","OK") -> OK | BB22: =IF($BB$20<>0," 注）世帯主を含む加入者人数と加入状況の数が合っていません","OK") -> OK
B23: 年間保険料 | G23: 平等割額 | H23: =AP14 -> 0 | I23: =AQ14 -> 0 | J23: =AR14 -> 0 | K23: =AS14 -> 0 | L23: =SUM(H23:K23) -> 0 | S23: ='資料(非表示)'!A8 -> 所得割 | T23: ='資料(非表示)'!B8 -> 0.083 | U23: ='資料(非表示)'!C8 -> 0.028 | V23: ='資料(非表示)'!D8 -> 0.024 | W23: ='資料(非表示)'!E8 -> 0.003 | X23: ='資料(非表示)'!F8 -> 0 | Y23: ='資料(非表示)'!G8 -> ２割軽減 | Z23: ='資料(非表示)'!H8 -> 基礎控除額 | ... AJ23: ='資料(非表示)'!R8 -> 以下
B24: =IF(☆試算シート!$C$29="","",IF(L29=0,0,L29)) | F24: △ | G24: 均等割軽減額 | H24: =$AG$14 -> 0 | I24: =$AJ$14 -> 0 | J24: =$AL$14 -> 0 | K24: =$AN$14 -> 0 | L24: =SUM(H24:K24) -> 0 | S24: ='資料(非表示)'!A9 -> 均等割 | T24: ='資料(非表示)'!B9 -> 23400 | U24: ='資料(非表示)'!C9 -> 8000 | V24: ='資料(非表示)'!D9 -> 7700 | W24: ='資料(非表示)'!E9 -> 1156 | X24: ='資料(非表示)'!F9 -> 0 | Y24: ='資料(非表示)'!G9 -> ５割軽減 | Z24: ='資料(非表示)'!H9 -> 基礎控除額 | ... AJ24: ='資料(非表示)'!R9 -> 以下
F25: △ | G25: 平等割軽減額 | H25: =$AU$14 -> 0 | I25: =$AV$14 -> 0 | J25: =$AW$14 -> 0 | K25: =$AX$14 -> 0 | L25: =SUM(H25:K25) -> 0 | S25: ='資料(非表示)'!A10 -> 平等割 | T25: ='資料(非表示)'!B10 -> 21000 | U25: ='資料(非表示)'!C10 -> 7100 | V25: ='資料(非表示)'!D10 -> 5100 | W25: ='資料(非表示)'!E10 -> 988 | X25: ='資料(非表示)'!F10 -> 0 | Y25: ='資料(非表示)'!G10 -> ７割軽減 | Z25: ='資料(非表示)'!H10 -> 基礎控除額 | ... AJ25: ='資料(非表示)'!R10 -> 0
G26: 限度超過額 | H26: =IF(ROUNDDOWN(SUM(H21:H23)-SUM(H24:H25),-1)>'資料(非表示)'!B$11,ROUNDDOWN(SUM(H21:H23)-SUM(H24:H25),-1)-'資料(非表示)'!B$11,0) -> 0 | I26: =IF(ROUNDDOWN(SUM(I21:I23)-SUM(I24:I25),-1)>'資料(非表示)'!C$11,ROUNDDOWN(SUM(I21:I23)-SUM(I24:I25),-1)-'資料(非表示)'!C$11,0) -> 0 | J26: =IF(ROUNDDOWN(SUM(J21:J23)-SUM(J24:J25),-1)>'資料(非表示)'!D$11,ROUNDDOWN(SUM(J21:J23)-SUM(J24:J25),-1)-'資料(非表示)'!D$11,0) -> 0 | K26: =IF(ROUNDDOWN(SUM(K21:K23)-SUM(K24:K25),-1)>'資料(非表示)'!E$11,ROUNDDOWN(SUM(K21:K23)-SUM(K24:K25),-1)-'資料(非表示)'!E$11,0) -> 0 | L26: =SUM(H26:K26) -> 0 | S26: ='資料(非表示)'!A11 -> 賦課限度額 | T26: ='資料(非表示)'!B11 -> 670000 | U26: ='資料(非表示)'!C11 -> 260000 | V26: ='資料(非表示)'!D11 -> 170000 | W26: ='資料(非表示)'!E11 -> 30000 | X26: ='資料(非表示)'!F11 -> 0 | Y26: ='資料(非表示)'!G11 -> 0 | Z26: ='資料(非表示)'!H11 -> 0 | ... AJ26: ='資料(非表示)'!R11 -> 0
G27: 実際の算出額 | H27: =ROUNDDOWN(SUM(H21:H23)-SUM(H24:H25),-1) -> 0 | I27: =ROUNDDOWN(SUM(I21:I23)-SUM(I24:I25),-1) -> 0 | J27: =ROUNDDOWN(SUM(J21:J23)-SUM(J24:J25),-1) -> 0 | K27: =ROUNDDOWN(SUM(K21:K23)-SUM(K24:K25),-1) -> 0 | L27: =SUM(H27:K27) -> 0 | S27: ='資料(非表示)'!A12 -> 0 | T27: ='資料(非表示)'!B12 -> 0 | U27: ='資料(非表示)'!C12 -> 0 | V27: ='資料(非表示)'!D12 -> 賦課限度額計 | W27: ='資料(非表示)'!E12 -> 1130000 | X27: ='資料(非表示)'!F12 -> 0 | Y27: ='資料(非表示)'!G12 -> 0 | Z27: ='資料(非表示)'!H12 -> 0 | ... AJ27: ='資料(非表示)'!R12 -> 0
S28: ='資料(非表示)'!A13 -> 0 | T28: ='資料(非表示)'!B13 -> 0 | U28: ='資料(非表示)'!C13 -> 0 | V28: ='資料(非表示)'!D13 -> 0 | W28: ='資料(非表示)'!E13 -> 0 | X28: ='資料(非表示)'!F13 -> 0 | Y28: ='資料(非表示)'!G13 -> 0 | Z28: ='資料(非表示)'!H13 -> 0 | ... AJ28: ='資料(非表示)'!R13 -> 0
G29: 年額 | H29: =H27-H26-H28 -> 0 | I29: =I27-I26-I28 -> 0 | J29: =J27-J26-J28 -> 0 | K29: =K27-K26-K28 -> 0 | L29: =SUM(H29:K29) -> 0 | S29: ='資料(非表示)'!A14 -> 0 | T29: ='資料(非表示)'!B14 -> 0 | U29: ='資料(非表示)'!C14 -> 0 | V29: ='資料(非表示)'!D14 -> 子ども分 | W29: ='資料(非表示)'!E14 -> 75 | X29: ='資料(非表示)'!F14 -> 0 | Y29: ='資料(非表示)'!G14 -> 0 | Z29: ='資料(非表示)'!H14 -> 0 | ... AJ29: ='資料(非表示)'!R14 -> 0
V30: ='資料(非表示)'!D15 -> 0 | W30: ='資料(非表示)'!E15 -> (18歳以上に追加)
S34: ='資料(非表示)'!A18 -> 【控除額について】 | Z34: ='資料(非表示)'!G18 -> 【備考】
C35: ='資料(非表示)'!H8 -> 基礎控除額 | E35: 基準額 | G35: ='資料(非表示)'!Q8 -> 被保険者数 | I35: 軽減基準調整額 | K35: ='資料(非表示)'!K8 -> 給与所得者等の数-1 | M35: 判定基準額 | S35: ='資料(非表示)'!A19 -> 基礎控除 | Z35: ='資料(非表示)'!G19 -> ■給与所得者等とは
B36: ='資料(非表示)'!G8 -> ２割軽減 | C36: ='資料(非表示)'!I8 -> 430000 | D36: ＋ | E36: ='資料(非表示)'!O8 -> 570000 | F36: × | G36: =$B$4 -> 0 | H36: ='資料(非表示)'!N8 -> ＋ | I36: ='資料(非表示)'!M8 -> 100000 | J36: × | K36: =IF(SUM($Q$14)<=1,0,SUM($Q$14)-1) -> 0 | L36: = | M36: ='資料(非表示)'!I8+$K$36*100000+'資料(非表示)'!$O$8*$B$4 -> 430000 | N36: ="←以下のときに"&B36&"に該当する" -> ←以下のときに２割軽減に該当する | S36: ='資料(非表示)'!A20 -> 430000 | Z36: ='資料(非表示)'!G20 -> ①前年の給与収入が55万円を超える
B37: ='資料(非表示)'!G9 -> ５割軽減 | C37: ='資料(非表示)'!I9 -> 430000 | D37: ＋ | E37: ='資料(非表示)'!O9 -> 310000 | F37: × | G37: =$B$4 -> 0 | H37: ='資料(非表示)'!N9 -> ＋ | I37: ='資料(非表示)'!M9 -> 100000 | J37: × | K37: =IF(SUM($Q$14)<=1,0,SUM($Q$14)-1) -> 0 | L37: = | M37: ='資料(非表示)'!I9+$K$37*100000+'資料(非表示)'!$O$9*$B$4 -> 430000 | N37: ="←以下のときに"&B37&"に該当する" -> ←以下のときに５割軽減に該当する | S37: ='資料(非表示)'!A21 -> 給与所得者等（給与収入が以下を超える場合に１） | Z37: ='資料(非表示)'!G21 -> ②65歳未満で公的年金等の収入が60万円を超える
B38: ='資料(非表示)'!G10 -> ７割軽減 | C38: ='資料(非表示)'!I10 -> 430000 | D38: ＋ | E38: 0 | F38: × | G38: =$B$4 -> 0 | H38: ＋ | I38: ='資料(非表示)'!M10 -> 100000 | J38: × | K38: =IF(SUM($Q$14)<=1,0,SUM($Q$14)-1) -> 0 | L38: = | M38: ='資料(非表示)'!I8+$K$38*100000 -> 430000 | N38: ="←以下のときに"&B38&"に該当する" -> ←以下のときに７割軽減に該当する | S38: ='資料(非表示)'!A22 -> 550000 | Z38: ='資料(非表示)'!G22 -> ③65歳以上で公的年金等の収入が125万円を超える
S39: ='資料(非表示)'!A23 -> 給与所得者等（65歳未満で公的年金収入が以下を超える場合に１） | Z39: ='資料(非表示)'!G23 -> 0
S40: ='資料(非表示)'!A24 -> 600000 | Z40: ='資料(非表示)'!G24 -> ■軽減制度
S41: ='資料(非表示)'!A25 -> 給与所得者等（65歳以上で公的年金収入が以下を超える場合に１） | Z41: ='資料(非表示)'!G25 -> 未就学児…6歳までは、均等割が半額
S42: ='資料(非表示)'!A26 -> 1250000 | Z42: ='資料(非表示)'!G26 -> 非自発…給与所得を30/100とみなす
S43: ='資料(非表示)'!A27 -> 65歳以上年金所得ありの控除額（軽減判定所得額算出用） | Z43: ='資料(非表示)'!G27 -> 旧被扶養者…社保の扶養から後期と国保にわかれた場合は、所得割が0円、均等割が半額、場合によっては平等割も半額（世帯の国保加入者全員が旧被扶養者で7・5割軽減でない場合）
S44: ='資料(非表示)'!A28 -> 150000 | Z44: ='資料(非表示)'!G28 -> 特定世帯…国保から後期と国保にわかれた場合は、5年間は平等割が半額、5年後は3年間平等割が1/4軽減
S45: ='資料(非表示)'!A29 -> 65歳以上で給与所得と年金所得ありの控除額（軽減基準所得金額算出用） | Z45: ='資料(非表示)'!G29 -> 産前産後…出産月の前月から4か月間、所得割額と均等割額から相当分が減額
S46: ='資料(非表示)'!A30 -> 100000 | Z46: ='資料(非表示)'!G30 -> ※旧被扶養、特定世帯、産前産後は今回の試算シートでは採用しない
...

Sheet 資料(非表示)
A1: 料率等変更がある場合には、青字箇所を修正してください。
A3: 令和 | B3: 8 | C3: 年度分
A6: 【料率について】 | G6: 【軽減判定基準額について】
B7: 医療分 | C7: 支援分 | D7: 介護分 | E7: 子ども分
A8: 所得割 | B8: 0.083 | C8: 0.028 | D8: 0.024 | E8: 0.003 | G8: ２割軽減 | H8: 基礎控除額 | I8: 430000 | J8: ＋ | K8: 給与所得者等の数-1 | L8: × | M8: 100000 | N8: ＋ | O8: 570000 | P8: × | Q8: 被保険者数 | R8: 以下
A9: 均等割 | B9: 23400 | C9: 8000 | D9: 7700 | E9: 1156 | G9: ５割軽減 | H9: 基礎控除額 | I9: 430000 | J9: ＋ | K9: 給与所得者等の数-1 | L9: × | M9: 100000 | N9: ＋ | O9: 310000 | P9: × | Q9: 被保険者数 | R9: 以下
A10: 平等割 | B10: 21000 | C10: 7100 | D10: 5100 | E10: 988 | G10: ７割軽減 | H10: 基礎控除額 | I10: 430000 | J10: ＋ | K10: 給与所得者等の数-1 | L10: × | M10: 100000 | N10: 以下
A11: 賦課限度額 | B11: 670000 | C11: 260000 | D11: 170000 | E11: 30000 | I11: ※合計所得金額2,400万円以下は基礎控除額43万円
D12: 賦課限度額計 | E12: =SUM(B11:E11) -> 1130000
D14: 子ども分 | E14: 75
E15: (18歳以上に追加)
A18: 【控除額について】 | G18: 【備考】
A19: 基礎控除 | G19: ■給与所得者等とは
A20: 430000 | G20: ①前年の給与収入が55万円を超える
A21: 給与所得者等（給与収入が以下を超える場合に１） | G21: ②65歳未満で公的年金等の収入が60万円を超える
A22: 550000 | G22: ③65歳以上で公的年金等の収入が125万円を超える
A23: 給与所得者等（65歳未満で公的年金収入が以下を超える場合に１）
A24: 600000 | G24: ■軽減制度
A25: 給与所得者等（65歳以上で公的年金収入が以下を超える場合に１） | G25: 未就学児…6歳までは、均等割が半額
A26: 1250000 | G26: 非自発…給与所得を30/100とみなす
A27: 65歳以上年金所得ありの控除額（軽減判定所得額算出用） | G27: 旧被扶養者…社保の扶養から後期と国保にわかれた場合は、所得割が0円、均等割が半額、場合によっては平等割も半額（世帯の国保加入者全員が旧被扶養者で7・5割軽減でない場合）
A28: 150000 | G28: 特定世帯…国保から後期と国保にわかれた場合は、5年間は平等割が半額、5年後は3年間平等割が1/4軽減
A29: 65歳以上で給与所得と年金所得ありの控除額（軽減基準所得金額算出用） | G29: 産前産後…出産月の前月から4か月間、所得割額と均等割額から相当分が減額
A30: 100000 | G30: ※旧被扶養、特定世帯、産前産後は今回の試算シートでは採用しない
A31: 65歳以上で給与所得と年金所得ありの控除額（課税標準額算出用）
A32: 280000
A37: 【65歳の区切り】
A38: 昭和 | B38: 36 | C38: 年1月1日
